BEGIN:VCALENDAR
VERSION:2.0
PRODID:-//Suomen Dartsliitto - ECPv6.15.20//NONSGML v1.0//EN
CALSCALE:GREGORIAN
METHOD:PUBLISH
X-WR-CALNAME:Suomen Dartsliitto
X-ORIGINAL-URL:https://darts.fi
X-WR-CALDESC:Tapahtumat Suomen Dartsliitto
REFRESH-INTERVAL;VALUE=DURATION:PT1H
X-Robots-Tag:noindex
X-PUBLISHED-TTL:PT1H
BEGIN:VTIMEZONE
TZID:UTC
BEGIN:STANDARD
TZOFFSETFROM:+0000
TZOFFSETTO:+0000
TZNAME:UTC
DTSTART:20230101T000000
END:STANDARD
END:VTIMEZONE
BEGIN:VEVENT
DTSTART;VALUE=DATE:20240925
DTEND;VALUE=DATE:20240929
DTSTAMP:20260421T131800
CREATED:20240109T173305Z
LAST-MODIFIED:20240731T170228Z
UID:2633-1727222400-1727567999@darts.fi
SUMMARY:WDF Europe Cup
DESCRIPTION:Miesten ja naisten maajoukkue
URL:https://darts.fi/kalenteri/europe-cup/
LOCATION:x bionic sphere\, Dubová 33\, Šamorín\, Slovakia
CATEGORIES:WDF Cup
ATTACH;FMTTYPE=image/jpeg:https://darts.fi/wp-content/uploads/2024/07/WDF-Colour-R-200x184-1.jpg
END:VEVENT
END:VCALENDAR