BEGIN:VCALENDAR
VERSION:2.0
PRODID:-//Suomen Dartsliitto - ECPv6.15.20//NONSGML v1.0//EN
CALSCALE:GREGORIAN
METHOD:PUBLISH
X-ORIGINAL-URL:https://darts.fi
X-WR-CALDESC:Tapahtumat Suomen Dartsliitto
REFRESH-INTERVAL;VALUE=DURATION:PT1H
X-Robots-Tag:noindex
X-PUBLISHED-TTL:PT1H
BEGIN:VTIMEZONE
TZID:UTC
BEGIN:STANDARD
TZOFFSETFROM:+0000
TZOFFSETTO:+0000
TZNAME:UTC
DTSTART:20230101T000000
END:STANDARD
END:VTIMEZONE
BEGIN:VTIMEZONE
TZID:Europe/Helsinki
BEGIN:DAYLIGHT
TZOFFSETFROM:+0200
TZOFFSETTO:+0300
TZNAME:EEST
DTSTART:20230326T010000
END:DAYLIGHT
BEGIN:STANDARD
TZOFFSETFROM:+0300
TZOFFSETTO:+0200
TZNAME:EET
DTSTART:20231029T010000
END:STANDARD
BEGIN:DAYLIGHT
TZOFFSETFROM:+0200
TZOFFSETTO:+0300
TZNAME:EEST
DTSTART:20240331T010000
END:DAYLIGHT
BEGIN:STANDARD
TZOFFSETFROM:+0300
TZOFFSETTO:+0200
TZNAME:EET
DTSTART:20241027T010000
END:STANDARD
BEGIN:DAYLIGHT
TZOFFSETFROM:+0200
TZOFFSETTO:+0300
TZNAME:EEST
DTSTART:20250330T010000
END:DAYLIGHT
BEGIN:STANDARD
TZOFFSETFROM:+0300
TZOFFSETTO:+0200
TZNAME:EET
DTSTART:20251026T010000
END:STANDARD
END:VTIMEZONE
BEGIN:VEVENT
DTSTART;VALUE=DATE:20241018
DTEND;VALUE=DATE:20241021
DTSTAMP:20260419T150250
CREATED:20240609T103305Z
LAST-MODIFIED:20240707T100422Z
UID:3661-1729209600-1729468799@darts.fi
SUMMARY:WDF Latvia
DESCRIPTION:Bellevue Park Hotel\, Riga \nhttps://dartswdf.com/calendar
URL:https://darts.fi/kalenteri/wdf-latvia/
CATEGORIES:WDF ranking
END:VEVENT
BEGIN:VEVENT
DTSTART;VALUE=DATE:20241019
DTEND;VALUE=DATE:20241020
DTSTAMP:20260419T150250
CREATED:20240717T054718Z
LAST-MODIFIED:20240717T055101Z
UID:4065-1729296000-1729382399@darts.fi
SUMMARY:Kauppi Cup
DESCRIPTION:
URL:https://darts.fi/kalenteri/2024-kauppi-cup/
LOCATION:Kaupin keilahalli\, Keilakuja 1\, Tampere\, 33520\, Suomi
CATEGORIES:Muu kilpailu
ATTACH;FMTTYPE=image/jpeg:https://darts.fi/wp-content/uploads/2024/07/2024-10-19_Kauppi_Cup_kisailmoitus.jpg
END:VEVENT
BEGIN:VEVENT
DTSTART;VALUE=DATE:20241019
DTEND;VALUE=DATE:20241020
DTSTAMP:20260419T150250
CREATED:20240827T105723Z
LAST-MODIFIED:20240827T105723Z
UID:4293-1729296000-1729382399@darts.fi
SUMMARY:Ohari DC 21. SekapariT
DESCRIPTION:
URL:https://darts.fi/kalenteri/ohari-dc-21-sekaparit/
ATTACH;FMTTYPE=application/pdf:https://darts.fi/wp-content/uploads/2024/08/OhariDCn_21_Sekaparit_19102024.pdf
END:VEVENT
BEGIN:VEVENT
DTSTART;VALUE=DATE:20241019
DTEND;VALUE=DATE:20241020
DTSTAMP:20260419T150250
CREATED:20241012T085331Z
LAST-MODIFIED:20241012T085331Z
UID:4601-1729296000-1729382399@darts.fi
SUMMARY:SDLPP B-Piirinmestaruuskisat
DESCRIPTION:
URL:https://darts.fi/kalenteri/sdlpp-b-piirinmestaruuskisat/
CATEGORIES:Muu kilpailu
ATTACH;FMTTYPE=image/jpeg:https://darts.fi/wp-content/uploads/2024/10/B_PIIRIN_KISAMAINOS.jpg
END:VEVENT
BEGIN:VEVENT
DTSTART;VALUE=DATE:20241019
DTEND;VALUE=DATE:20241021
DTSTAMP:20260419T150250
CREATED:20240429T113756Z
LAST-MODIFIED:20240913T052524Z
UID:3494-1729296000-1729468799@darts.fi
SUMMARY:Pieni rankingkisa - LSD
DESCRIPTION:Paikka: Salo rata 57
URL:https://darts.fi/kalenteri/pieni-rankingkisa-lsd/
CATEGORIES:SDL myöntämät rankingpiste- ja arvokilpailut,VANHA Piirit - pieni ranking
END:VEVENT
END:VCALENDAR