BEGIN:VCALENDAR
VERSION:2.0
PRODID:-//Suomen Dartsliitto - ECPv6.15.20//NONSGML v1.0//EN
CALSCALE:GREGORIAN
METHOD:PUBLISH
X-WR-CALNAME:Suomen Dartsliitto
X-ORIGINAL-URL:https://darts.fi
X-WR-CALDESC:Tapahtumat Suomen Dartsliitto
REFRESH-INTERVAL;VALUE=DURATION:PT1H
X-Robots-Tag:noindex
X-PUBLISHED-TTL:PT1H
BEGIN:VTIMEZONE
TZID:Europe/Helsinki
BEGIN:DAYLIGHT
TZOFFSETFROM:+0200
TZOFFSETTO:+0300
TZNAME:EEST
DTSTART:20230326T010000
END:DAYLIGHT
BEGIN:STANDARD
TZOFFSETFROM:+0300
TZOFFSETTO:+0200
TZNAME:EET
DTSTART:20231029T010000
END:STANDARD
BEGIN:DAYLIGHT
TZOFFSETFROM:+0200
TZOFFSETTO:+0300
TZNAME:EEST
DTSTART:20240331T010000
END:DAYLIGHT
BEGIN:STANDARD
TZOFFSETFROM:+0300
TZOFFSETTO:+0200
TZNAME:EET
DTSTART:20241027T010000
END:STANDARD
BEGIN:DAYLIGHT
TZOFFSETFROM:+0200
TZOFFSETTO:+0300
TZNAME:EEST
DTSTART:20250330T010000
END:DAYLIGHT
BEGIN:STANDARD
TZOFFSETFROM:+0300
TZOFFSETTO:+0200
TZNAME:EET
DTSTART:20251026T010000
END:STANDARD
END:VTIMEZONE
BEGIN:VTIMEZONE
TZID:UTC
BEGIN:STANDARD
TZOFFSETFROM:+0000
TZOFFSETTO:+0000
TZNAME:UTC
DTSTART:20230101T000000
END:STANDARD
END:VTIMEZONE
BEGIN:VEVENT
DTSTART;VALUE=DATE:20241109
DTEND;VALUE=DATE:20241110
DTSTAMP:20260419T163222
CREATED:20240812T173543Z
LAST-MODIFIED:20240925T194943Z
UID:4177-1731110400-1731196799@darts.fi
SUMMARY:Juhlakiertue Open
DESCRIPTION:Sarjat: AS 170/5\, AS 501/5\n\n( 32 tasoituslistan parasta 1.11. suljettu koska Grand Prix )\nLisätiedot: kukontikka@gmail.com
URL:https://darts.fi/kalenteri/juhlakiertue-open/
LOCATION:Hotelli Aquarius\, Kullervontie 11\, Uusikaupunki\, 23500\, Suomi
ATTACH;FMTTYPE=image/jpeg:https://darts.fi/wp-content/uploads/2024/08/Kukon-Tikka-juhlakiertue-open-2024.jpg
END:VEVENT
BEGIN:VEVENT
DTSTART;VALUE=DATE:20241109
DTEND;VALUE=DATE:20241111
DTSTAMP:20260419T163222
CREATED:20240109T173600Z
LAST-MODIFIED:20240609T082443Z
UID:2641-1731110400-1731283199@darts.fi
SUMMARY:Pro Darts Finland Grand Prix
DESCRIPTION:Pro Darts Finland Grand Prix – PDF GP Kutsukilpailu\, ei rankingarvoa
URL:https://darts.fi/kalenteri/pdf-gp/
END:VEVENT
END:VCALENDAR