BEGIN:VCALENDAR
VERSION:2.0
PRODID:-//Suomen Dartsliitto - ECPv6.15.20//NONSGML v1.0//EN
CALSCALE:GREGORIAN
METHOD:PUBLISH
X-ORIGINAL-URL:https://darts.fi
X-WR-CALDESC:Tapahtumat Suomen Dartsliitto
REFRESH-INTERVAL;VALUE=DURATION:PT1H
X-Robots-Tag:noindex
X-PUBLISHED-TTL:PT1H
BEGIN:VTIMEZONE
TZID:Europe/Helsinki
BEGIN:DAYLIGHT
TZOFFSETFROM:+0200
TZOFFSETTO:+0300
TZNAME:EEST
DTSTART:20230326T010000
END:DAYLIGHT
BEGIN:STANDARD
TZOFFSETFROM:+0300
TZOFFSETTO:+0200
TZNAME:EET
DTSTART:20231029T010000
END:STANDARD
BEGIN:DAYLIGHT
TZOFFSETFROM:+0200
TZOFFSETTO:+0300
TZNAME:EEST
DTSTART:20240331T010000
END:DAYLIGHT
BEGIN:STANDARD
TZOFFSETFROM:+0300
TZOFFSETTO:+0200
TZNAME:EET
DTSTART:20241027T010000
END:STANDARD
BEGIN:DAYLIGHT
TZOFFSETFROM:+0200
TZOFFSETTO:+0300
TZNAME:EEST
DTSTART:20250330T010000
END:DAYLIGHT
BEGIN:STANDARD
TZOFFSETFROM:+0300
TZOFFSETTO:+0200
TZNAME:EET
DTSTART:20251026T010000
END:STANDARD
END:VTIMEZONE
BEGIN:VEVENT
DTSTART;VALUE=DATE:20241130
DTEND;VALUE=DATE:20241201
DTSTAMP:20260419T164455
CREATED:20240813T191852Z
LAST-MODIFIED:20240916T095249Z
UID:4184-1732924800-1733011199@darts.fi
SUMMARY:Karhunkaato
DESCRIPTION:755eri/5 tuplacup \nklo 11:30 \nMalmin Mestari DC
URL:https://darts.fi/kalenteri/karhunkaato/
ATTACH;FMTTYPE=application/pdf:https://darts.fi/wp-content/uploads/2024/08/karhunkaato_30_11_2024-1-Adobe-cloud-storage.pdf
END:VEVENT
BEGIN:VEVENT
DTSTART;VALUE=DATE:20241130
DTEND;VALUE=DATE:20241201
DTSTAMP:20260419T164455
CREATED:20241023T194319Z
LAST-MODIFIED:20241023T194319Z
UID:4645-1732924800-1733011199@darts.fi
SUMMARY:Wanhan Joen DC - Kinkkukisa
DESCRIPTION:
URL:https://darts.fi/kalenteri/wanhan-joen-dc-kinkkukisa/
CATEGORIES:Muu kilpailu
ATTACH;FMTTYPE=application/pdf:https://darts.fi/wp-content/uploads/2024/10/Kinkkukisa-2024.pdf
END:VEVENT
END:VCALENDAR