BEGIN:VCALENDAR
VERSION:2.0
PRODID:-//Suomen Dartsliitto - ECPv6.15.20//NONSGML v1.0//EN
CALSCALE:GREGORIAN
METHOD:PUBLISH
X-ORIGINAL-URL:https://darts.fi
X-WR-CALDESC:Tapahtumat Suomen Dartsliitto
REFRESH-INTERVAL;VALUE=DURATION:PT1H
X-Robots-Tag:noindex
X-PUBLISHED-TTL:PT1H
BEGIN:VTIMEZONE
TZID:Europe/Helsinki
BEGIN:DAYLIGHT
TZOFFSETFROM:+0200
TZOFFSETTO:+0300
TZNAME:EEST
DTSTART:20240331T010000
END:DAYLIGHT
BEGIN:STANDARD
TZOFFSETFROM:+0300
TZOFFSETTO:+0200
TZNAME:EET
DTSTART:20241027T010000
END:STANDARD
BEGIN:DAYLIGHT
TZOFFSETFROM:+0200
TZOFFSETTO:+0300
TZNAME:EEST
DTSTART:20250330T010000
END:DAYLIGHT
BEGIN:STANDARD
TZOFFSETFROM:+0300
TZOFFSETTO:+0200
TZNAME:EET
DTSTART:20251026T010000
END:STANDARD
BEGIN:DAYLIGHT
TZOFFSETFROM:+0200
TZOFFSETTO:+0300
TZNAME:EEST
DTSTART:20260329T010000
END:DAYLIGHT
BEGIN:STANDARD
TZOFFSETFROM:+0300
TZOFFSETTO:+0200
TZNAME:EET
DTSTART:20261025T010000
END:STANDARD
END:VTIMEZONE
BEGIN:VEVENT
DTSTART;VALUE=DATE:20250118
DTEND;VALUE=DATE:20250119
DTSTAMP:20260419T193704
CREATED:20241218T084906Z
LAST-MODIFIED:20250105T180113Z
UID:4941-1737158400-1737244799@darts.fi
SUMMARY:Tammi Cup
DESCRIPTION:
URL:https://darts.fi/kalenteri/tammi-cup/
LOCATION:Club Labra\, Sammonkatu 8\, Oulu\, Suomi
CATEGORIES:Muu kilpailu
ATTACH;FMTTYPE=image/jpeg:https://darts.fi/wp-content/uploads/2024/12/Creative-Darts-Tournament-Flyer-Design-1-Made-with-PosterMyWall-9.jpg
END:VEVENT
BEGIN:VEVENT
DTSTART;VALUE=DATE:20250118
DTEND;VALUE=DATE:20250120
DTSTAMP:20260419T193704
CREATED:20240918T163843Z
LAST-MODIFIED:20241217T204928Z
UID:4431-1737158400-1737331199@darts.fi
SUMMARY:Leikari Open
DESCRIPTION:Kotka DC
URL:https://darts.fi/kalenteri/leikari-open/
CATEGORIES:Muu kilpailu
ATTACH;FMTTYPE=image/jpeg:https://darts.fi/wp-content/uploads/2024/09/darts-sarjat.jpg
END:VEVENT
END:VCALENDAR