BEGIN:VCALENDAR
VERSION:2.0
PRODID:-//Suomen Dartsliitto - ECPv6.15.20//NONSGML v1.0//EN
CALSCALE:GREGORIAN
METHOD:PUBLISH
X-WR-CALNAME:Suomen Dartsliitto
X-ORIGINAL-URL:https://darts.fi
X-WR-CALDESC:Tapahtumat Suomen Dartsliitto
REFRESH-INTERVAL;VALUE=DURATION:PT1H
X-Robots-Tag:noindex
X-PUBLISHED-TTL:PT1H
BEGIN:VTIMEZONE
TZID:Europe/Helsinki
BEGIN:DAYLIGHT
TZOFFSETFROM:+0200
TZOFFSETTO:+0300
TZNAME:EEST
DTSTART:20250330T010000
END:DAYLIGHT
BEGIN:STANDARD
TZOFFSETFROM:+0300
TZOFFSETTO:+0200
TZNAME:EET
DTSTART:20251026T010000
END:STANDARD
BEGIN:DAYLIGHT
TZOFFSETFROM:+0200
TZOFFSETTO:+0300
TZNAME:EEST
DTSTART:20260329T010000
END:DAYLIGHT
BEGIN:STANDARD
TZOFFSETFROM:+0300
TZOFFSETTO:+0200
TZNAME:EET
DTSTART:20261025T010000
END:STANDARD
BEGIN:DAYLIGHT
TZOFFSETFROM:+0200
TZOFFSETTO:+0300
TZNAME:EEST
DTSTART:20270328T010000
END:DAYLIGHT
BEGIN:STANDARD
TZOFFSETFROM:+0300
TZOFFSETTO:+0200
TZNAME:EET
DTSTART:20271031T010000
END:STANDARD
END:VTIMEZONE
BEGIN:VEVENT
DTSTART;TZID=Europe/Helsinki:20260424T080000
DTEND;TZID=Europe/Helsinki:20260426T170000
DTSTAMP:20260424T015121
CREATED:20251216T124247Z
LAST-MODIFIED:20260209T063539Z
UID:8346-1777017600-1777222800@darts.fi
SUMMARY:PDCBNB Finland
DESCRIPTION:PDC Nordic Baltic Suomen osakilpailu. SDL3 rankingpisteet. \nApr 24 14.00 PDC European Tour Qualifier 7 (ET7 International Darts Open\, Riesa\, Germany\, 22-24 May) \nApr 24 19.00 PDC European Tour Qualifier 8 (ET8 Baltic Sea Darts Open\, Kiel\, Germany\, 29-31 May) \nApr 25 11.00 Nordic and Baltic Pro Tour 5  \nApr 25 19.00 PDC European Tour Qualifier 9 (ET9 Slovak Darts Open\, Bratislava\, Slovakia\, 19-21 June) \nApr 26 11.00 Nordic and Baltic Pro Tour 6
URL:https://darts.fi/kalenteri/pdcbnb/
LOCATION:Hotelli Tallukka\, Tallukantie 1\, Vääksy\, 17200
CATEGORIES:Etusivun kisa,SDL Ranking
END:VEVENT
END:VCALENDAR