BEGIN:VCALENDAR
VERSION:2.0
PRODID:-//Suomen Dartsliitto - ECPv6.15.20//NONSGML v1.0//EN
CALSCALE:GREGORIAN
METHOD:PUBLISH
X-ORIGINAL-URL:https://darts.fi
X-WR-CALDESC:Tapahtumat Suomen Dartsliitto
REFRESH-INTERVAL;VALUE=DURATION:PT1H
X-Robots-Tag:noindex
X-PUBLISHED-TTL:PT1H
BEGIN:VTIMEZONE
TZID:UTC
BEGIN:STANDARD
TZOFFSETFROM:+0000
TZOFFSETTO:+0000
TZNAME:UTC
DTSTART:20230101T000000
END:STANDARD
END:VTIMEZONE
BEGIN:VTIMEZONE
TZID:Europe/Helsinki
BEGIN:DAYLIGHT
TZOFFSETFROM:+0200
TZOFFSETTO:+0300
TZNAME:EEST
DTSTART:20230326T010000
END:DAYLIGHT
BEGIN:STANDARD
TZOFFSETFROM:+0300
TZOFFSETTO:+0200
TZNAME:EET
DTSTART:20231029T010000
END:STANDARD
BEGIN:DAYLIGHT
TZOFFSETFROM:+0200
TZOFFSETTO:+0300
TZNAME:EEST
DTSTART:20240331T010000
END:DAYLIGHT
BEGIN:STANDARD
TZOFFSETFROM:+0300
TZOFFSETTO:+0200
TZNAME:EET
DTSTART:20241027T010000
END:STANDARD
BEGIN:DAYLIGHT
TZOFFSETFROM:+0200
TZOFFSETTO:+0300
TZNAME:EEST
DTSTART:20250330T010000
END:DAYLIGHT
BEGIN:STANDARD
TZOFFSETFROM:+0300
TZOFFSETTO:+0200
TZNAME:EET
DTSTART:20251026T010000
END:STANDARD
END:VTIMEZONE
BEGIN:VEVENT
DTSTART;VALUE=DATE:20241101
DTEND;VALUE=DATE:20241104
DTSTAMP:20260419T150655
CREATED:20240108T171524Z
LAST-MODIFIED:20250629T211946Z
UID:2612-1730419200-1730678399@darts.fi
SUMMARY:B-SM
DESCRIPTION:  \nSarjat: AS\, NS\, AP\, NP\, AS.Kri\, NS-Kri \n14.10. listojen mukaan: Ei osallistumisoikeutta B-SM 2024 \nIkaalinen Spa & Resort \nSuomen Dartsliitto office@darts.fi
URL:https://darts.fi/kalenteri/b-sm/
LOCATION:Ikaalisten kylpylä Spa & Resort\, Huvilatie 2\, Ikaalinen\, 39500
CATEGORIES:SDL myöntämät rankingpiste- ja arvokilpailut,SM-kilpailu
ATTACH;FMTTYPE=application/pdf:https://darts.fi/wp-content/uploads/2024/01/B-SM-2024.pdf
ORGANIZER;CN="Suomen Dartsliitto":MAILTO:office@darts.fi
END:VEVENT
BEGIN:VEVENT
DTSTART;VALUE=DATE:20241109
DTEND;VALUE=DATE:20241110
DTSTAMP:20260419T150655
CREATED:20240812T173543Z
LAST-MODIFIED:20240925T194943Z
UID:4177-1731110400-1731196799@darts.fi
SUMMARY:Juhlakiertue Open
DESCRIPTION:Sarjat: AS 170/5\, AS 501/5\n\n( 32 tasoituslistan parasta 1.11. suljettu koska Grand Prix )\nLisätiedot: kukontikka@gmail.com
URL:https://darts.fi/kalenteri/juhlakiertue-open/
LOCATION:Hotelli Aquarius\, Kullervontie 11\, Uusikaupunki\, 23500\, Suomi
ATTACH;FMTTYPE=image/jpeg:https://darts.fi/wp-content/uploads/2024/08/Kukon-Tikka-juhlakiertue-open-2024.jpg
END:VEVENT
BEGIN:VEVENT
DTSTART;VALUE=DATE:20241109
DTEND;VALUE=DATE:20241111
DTSTAMP:20260419T150655
CREATED:20240109T173600Z
LAST-MODIFIED:20240609T082443Z
UID:2641-1731110400-1731283199@darts.fi
SUMMARY:Pro Darts Finland Grand Prix
DESCRIPTION:Pro Darts Finland Grand Prix – PDF GP Kutsukilpailu\, ei rankingarvoa
URL:https://darts.fi/kalenteri/pdf-gp/
END:VEVENT
BEGIN:VEVENT
DTSTART;VALUE=DATE:20241116
DTEND;VALUE=DATE:20241117
DTSTAMP:20260419T150655
CREATED:20240429T113650Z
LAST-MODIFIED:20240925T121830Z
UID:3492-1731715200-1731801599@darts.fi
SUMMARY:Basso Open
DESCRIPTION:Proffan Tikka
URL:https://darts.fi/kalenteri/basso-open/
CATEGORIES:SDL myöntämät rankingpiste- ja arvokilpailut,VANHA Piirit - pieni ranking
ATTACH;FMTTYPE=application/pdf:https://darts.fi/wp-content/uploads/2024/04/Kopio-Yellow-Cross-Elite-Gym-Poster-3.pdf
END:VEVENT
BEGIN:VEVENT
DTSTART;VALUE=DATE:20241116
DTEND;VALUE=DATE:20241117
DTSTAMP:20260419T150655
CREATED:20240508T153230Z
LAST-MODIFIED:20240918T094658Z
UID:3529-1731715200-1731801599@darts.fi
SUMMARY:Mökki Cup
DESCRIPTION:kisailmoitus Mökki Cup 2024
URL:https://darts.fi/kalenteri/mokki-cup/
LOCATION:Black Diamond\, Yliopistonkatu 36\, Jyväskylä\, 40100\, Suomi
ATTACH;FMTTYPE=application/pdf:https://darts.fi/wp-content/uploads/2024/05/kisailmoitus-Mokki-Cup-2024-1.pdf
END:VEVENT
BEGIN:VEVENT
DTSTART;VALUE=DATE:20241116
DTEND;VALUE=DATE:20241117
DTSTAMP:20260419T150655
CREATED:20240903T082818Z
LAST-MODIFIED:20240913T052539Z
UID:4366-1731715200-1731801599@darts.fi
SUMMARY:Pieni RG kisa Outokummussa
DESCRIPTION:Outokumpu
URL:https://darts.fi/kalenteri/pieni-rg-kisa-outokummussa/
CATEGORIES:SDL myöntämät rankingpiste- ja arvokilpailut,VANHA Piirit - pieni ranking
END:VEVENT
BEGIN:VEVENT
DTSTART;VALUE=DATE:20241116
DTEND;VALUE=DATE:20241117
DTSTAMP:20260419T150655
CREATED:20240912T070314Z
LAST-MODIFIED:20240912T070314Z
UID:4395-1731715200-1731801599@darts.fi
SUMMARY:Kantsu Grand Slam
DESCRIPTION:
URL:https://darts.fi/kalenteri/kantsu-grand-slam/
ATTACH;FMTTYPE=application/pdf:https://darts.fi/wp-content/uploads/2024/09/Kantsu-Grand-Final-versio-2.01.pdf
END:VEVENT
BEGIN:VEVENT
DTSTART;VALUE=DATE:20241116
DTEND;VALUE=DATE:20241117
DTSTAMP:20260419T150655
CREATED:20240916T095547Z
LAST-MODIFIED:20240916T095547Z
UID:4413-1731715200-1731801599@darts.fi
SUMMARY:Metsähovi Cup
DESCRIPTION:
URL:https://darts.fi/kalenteri/metsahovi-cup/
ATTACH;FMTTYPE=application/pdf:https://darts.fi/wp-content/uploads/2024/09/Ramin-Darts-pienet-rankingkisat.pdf
END:VEVENT
BEGIN:VEVENT
DTSTART;VALUE=DATE:20241116
DTEND;VALUE=DATE:20241117
DTSTAMP:20260419T150655
CREATED:20241012T085057Z
LAST-MODIFIED:20241012T085057Z
UID:4595-1731715200-1731801599@darts.fi
SUMMARY:Kempele Cup
DESCRIPTION:KEMPELE CUP
URL:https://darts.fi/kalenteri/kempele-cup/
ATTACH;FMTTYPE=image/png:https://darts.fi/wp-content/uploads/2024/10/Kempelecuppi.png
END:VEVENT
BEGIN:VEVENT
DTSTART;VALUE=DATE:20241123
DTEND;VALUE=DATE:20241124
DTSTAMP:20260419T150655
CREATED:20240122T163321Z
LAST-MODIFIED:20240609T082050Z
UID:2867-1732320000-1732406399@darts.fi
SUMMARY:SM-liiga 3. kierros
DESCRIPTION:
URL:https://darts.fi/kalenteri/sm-liiga-3-kierros/
CATEGORIES:SM-liiga
ATTACH;FMTTYPE=image/png:https://darts.fi/wp-content/uploads/2023/11/Screenshot-2023-11-14-at-16.10.34.png
ORGANIZER;CN="Suomen Dartsliitto":MAILTO:office@darts.fi
END:VEVENT
BEGIN:VEVENT
DTSTART;VALUE=DATE:20241130
DTEND;VALUE=DATE:20241201
DTSTAMP:20260419T150655
CREATED:20240813T191852Z
LAST-MODIFIED:20240916T095249Z
UID:4184-1732924800-1733011199@darts.fi
SUMMARY:Karhunkaato
DESCRIPTION:755eri/5 tuplacup \nklo 11:30 \nMalmin Mestari DC
URL:https://darts.fi/kalenteri/karhunkaato/
ATTACH;FMTTYPE=application/pdf:https://darts.fi/wp-content/uploads/2024/08/karhunkaato_30_11_2024-1-Adobe-cloud-storage.pdf
END:VEVENT
BEGIN:VEVENT
DTSTART;VALUE=DATE:20241130
DTEND;VALUE=DATE:20241201
DTSTAMP:20260419T150655
CREATED:20241023T194319Z
LAST-MODIFIED:20241023T194319Z
UID:4645-1732924800-1733011199@darts.fi
SUMMARY:Wanhan Joen DC - Kinkkukisa
DESCRIPTION:
URL:https://darts.fi/kalenteri/wanhan-joen-dc-kinkkukisa/
CATEGORIES:Muu kilpailu
ATTACH;FMTTYPE=application/pdf:https://darts.fi/wp-content/uploads/2024/10/Kinkkukisa-2024.pdf
END:VEVENT
END:VCALENDAR