BEGIN:VCALENDAR
VERSION:2.0
PRODID:-//Suomen Dartsliitto - ECPv6.15.20//NONSGML v1.0//EN
CALSCALE:GREGORIAN
METHOD:PUBLISH
X-ORIGINAL-URL:https://darts.fi
X-WR-CALDESC:Tapahtumat Suomen Dartsliitto
REFRESH-INTERVAL;VALUE=DURATION:PT1H
X-Robots-Tag:noindex
X-PUBLISHED-TTL:PT1H
BEGIN:VTIMEZONE
TZID:Europe/Helsinki
BEGIN:DAYLIGHT
TZOFFSETFROM:+0200
TZOFFSETTO:+0300
TZNAME:EEST
DTSTART:20240331T010000
END:DAYLIGHT
BEGIN:STANDARD
TZOFFSETFROM:+0300
TZOFFSETTO:+0200
TZNAME:EET
DTSTART:20241027T010000
END:STANDARD
BEGIN:DAYLIGHT
TZOFFSETFROM:+0200
TZOFFSETTO:+0300
TZNAME:EEST
DTSTART:20250330T010000
END:DAYLIGHT
BEGIN:STANDARD
TZOFFSETFROM:+0300
TZOFFSETTO:+0200
TZNAME:EET
DTSTART:20251026T010000
END:STANDARD
BEGIN:DAYLIGHT
TZOFFSETFROM:+0200
TZOFFSETTO:+0300
TZNAME:EEST
DTSTART:20260329T010000
END:DAYLIGHT
BEGIN:STANDARD
TZOFFSETFROM:+0300
TZOFFSETTO:+0200
TZNAME:EET
DTSTART:20261025T010000
END:STANDARD
END:VTIMEZONE
BEGIN:VTIMEZONE
TZID:UTC
BEGIN:STANDARD
TZOFFSETFROM:+0000
TZOFFSETTO:+0000
TZNAME:UTC
DTSTART:20240101T000000
END:STANDARD
END:VTIMEZONE
BEGIN:VEVENT
DTSTART;VALUE=DATE:20250405
DTEND;VALUE=DATE:20250406
DTSTAMP:20260420T033810
CREATED:20250312T095143Z
LAST-MODIFIED:20250312T095222Z
UID:5562-1743811200-1743897599@darts.fi
SUMMARY:Inari Cup III
DESCRIPTION:Inari Cup III 2
URL:https://darts.fi/kalenteri/inari-cup-iii/
LOCATION:Ravintola Papana\, Inarintie 49\, Inari\, 99870
CATEGORIES:VANHA Piirit - pieni ranking
ATTACH;FMTTYPE=application/pdf:https://darts.fi/wp-content/uploads/2025/03/Inari-Cup-III-1-1.pdf
ORGANIZER;CN="Papanan Darts":MAILTO:papanadarts.inari@gmail.com
END:VEVENT
BEGIN:VEVENT
DTSTART;VALUE=DATE:20250405
DTEND;VALUE=DATE:20250406
DTSTAMP:20260420T033810
CREATED:20250320T063451Z
LAST-MODIFIED:20250320T063533Z
UID:5656-1743811200-1743897599@darts.fi
SUMMARY:Kantsun Classic
DESCRIPTION:
URL:https://darts.fi/kalenteri/kantsun-classic/
LOCATION:Kannelkrouvi\, Sitratori 3\, Helsinki
CATEGORIES:Muu kilpailu
ATTACH;FMTTYPE=image/jpeg:https://darts.fi/wp-content/uploads/2025/03/Kantsu-Classic.jpg
END:VEVENT
BEGIN:VEVENT
DTSTART;VALUE=DATE:20250405
DTEND;VALUE=DATE:20250407
DTSTAMP:20260420T033810
CREATED:20250128T070031Z
LAST-MODIFIED:20250629T213418Z
UID:2671-1743811200-1743983999@darts.fi
SUMMARY:Pro Darts Finland Masters
DESCRIPTION:PDF Masters on kutsukisa 64 pelaajalle\, jossa on SDL rankingpisteet jaossa.\nTämän kisan ajankohtana voi järjestää muun kisan\, kun on kutsukisa.
URL:https://darts.fi/kalenteri/6-rankingkilpailu/
LOCATION:Hotelli Tallukka\, Tallukantie 1\, Vääksy\, 17200
CATEGORIES:Etusivun kisa,SDL Ranking
END:VEVENT
BEGIN:VEVENT
DTSTART;VALUE=DATE:20250412
DTEND;VALUE=DATE:20250413
DTSTAMP:20260420T033810
CREATED:20250221T103416Z
LAST-MODIFIED:20250320T063126Z
UID:5422-1744416000-1744502399@darts.fi
SUMMARY:2. Kolmikulman Karkelot
DESCRIPTION:  \nSDL pienet rg pisteet
URL:https://darts.fi/kalenteri/2-kolmikulman-karkelot/
LOCATION:Groowtown Jack Billiard Club\, Iso Roobertinkatu 4\, Helsinki\, 00120
CATEGORIES:VANHA Piirit - pieni ranking
ATTACH;FMTTYPE=image/jpeg:https://darts.fi/wp-content/uploads/2025/02/Karkelot-25-3.jpg
END:VEVENT
BEGIN:VEVENT
DTSTART;VALUE=DATE:20250412
DTEND;VALUE=DATE:20250413
DTSTAMP:20260420T033810
CREATED:20250313T065725Z
LAST-MODIFIED:20250313T090524Z
UID:5573-1744416000-1744502399@darts.fi
SUMMARY:Kulmasport Darts Open
DESCRIPTION:https://kisailu.net/tapahtuma/sorvyj6
URL:https://darts.fi/kalenteri/kulmasport-darts-open/
LOCATION:Kulmasport\, Kulmatie 5\, Savonlinna
CATEGORIES:Muu kilpailu
ATTACH;FMTTYPE=application/pdf:https://darts.fi/wp-content/uploads/2025/03/Kulmasport-Darts-Open.pdf
END:VEVENT
BEGIN:VEVENT
DTSTART;VALUE=DATE:20250412
DTEND;VALUE=DATE:20250414
DTSTAMP:20260420T033810
CREATED:20241012T084847Z
LAST-MODIFIED:20250313T090741Z
UID:4592-1744416000-1744588799@darts.fi
SUMMARY:Tasoitus ja B ranking Aquarius open
DESCRIPTION:Hyväntekeväisyystapahtuma\nHotelli Aquarius Uusikaupunki\nhttps://kisailu.net/tapahtuma/pycbih9
URL:https://darts.fi/kalenteri/aquvarius-open-hyvantekevaisyyskilpailu/
ATTACH;FMTTYPE=application/pdf:https://darts.fi/wp-content/uploads/2024/10/aquariusopen2025.pdf
END:VEVENT
BEGIN:VEVENT
DTSTART;VALUE=DATE:20250426
DTEND;VALUE=DATE:20250428
DTSTAMP:20260420T033810
CREATED:20240109T174750Z
LAST-MODIFIED:20250223T114034Z
UID:2675-1745625600-1745798399@darts.fi
SUMMARY:SM -liiga finaalit ja nousukarsinnat mestaruusarjat
DESCRIPTION:Yksi viikonloppu playoffs ja karsinnat
URL:https://darts.fi/kalenteri/sm-liiga-finaalit/
LOCATION:Black Diamond\, Yliopistonkatu 36\, Jyväskylä\, 40100\, Suomi
CATEGORIES:SM-liiga
ATTACH;FMTTYPE=image/png:https://darts.fi/wp-content/uploads/2023/11/Screenshot-2023-11-14-at-16.10.34.png
ORGANIZER;CN="Suomen Dartsliitto":MAILTO:office@darts.fi
END:VEVENT
BEGIN:VEVENT
DTSTART;VALUE=DATE:20250502
DTEND;VALUE=DATE:20250505
DTSTAMP:20260420T033810
CREATED:20240109T174708Z
LAST-MODIFIED:20250313T091110Z
UID:2673-1746144000-1746403199@darts.fi
SUMMARY:7. Rankingkilpailu Laitila Cup
DESCRIPTION:Kisailmoitys Laitila Cup 2025 (pdf) \nhttps://kisailu.net/tapahtuma/hotdid9
URL:https://darts.fi/kalenteri/7-rankingkilpailu/
LOCATION:Lomakeskus Revontuli\, Revontulentie 1\, Hankasalmi\, 41500\, Suomi
CATEGORIES:Etusivun kisa,SDL myöntämät rankingpiste- ja arvokilpailut,SDL Ranking
ATTACH;FMTTYPE=image/jpeg:https://darts.fi/wp-content/uploads/2024/01/Laitila-Cup-2025-sivu1-scaled.jpg
END:VEVENT
BEGIN:VEVENT
DTSTART;VALUE=DATE:20250509
DTEND;VALUE=DATE:20250512
DTSTAMP:20260420T033810
CREATED:20250129T043407Z
LAST-MODIFIED:20250226T062556Z
UID:5158-1746748800-1747007999@darts.fi
SUMMARY:PDCNB Suomi 2025
DESCRIPTION:Nordic and Baltic Pro Tour 7 & 8\nEuropean Qualifier 7\, 8 & 9 \n\n\nYou are currently viewing a placeholder content from Default. To access the actual content\, click the button below. Please note that doing so will share data with third-party providers. \n Unblock content Accept required service and unblock content \n More Information
URL:https://darts.fi/kalenteri/pdcnb-suomi-2025/
LOCATION:Hotelli Tallukka\, Tallukantie 1\, Vääksy\, 17200
CATEGORIES:Etusivun kisa,SDL Ranking
END:VEVENT
BEGIN:VEVENT
DTSTART;VALUE=DATE:20250516
DTEND;VALUE=DATE:20250519
DTSTAMP:20260420T033810
CREATED:20241108T095932Z
LAST-MODIFIED:20250328T081110Z
UID:4747-1747353600-1747612799@darts.fi
SUMMARY:Lapland Open 2025
DESCRIPTION:
URL:https://darts.fi/kalenteri/lapland-open-2025/
CATEGORIES:Muu kilpailu
ATTACH;FMTTYPE=image/jpeg:https://darts.fi/wp-content/uploads/2024/11/Lapland-open-III-kisailmoitus_Page_1-scaled.jpg
END:VEVENT
BEGIN:VEVENT
DTSTART;VALUE=DATE:20250517
DTEND;VALUE=DATE:20250518
DTSTAMP:20260420T033810
CREATED:20250209T171452Z
LAST-MODIFIED:20250428T151830Z
UID:5224-1747440000-1747526399@darts.fi
SUMMARY:Tupla Karhunkaato
DESCRIPTION:https://kisailu.net/kisa/nactob3
URL:https://darts.fi/kalenteri/tupla-karhunkaato-2/
LOCATION:Malmin Mestari\, Malmin kauppatie 18\, Helsinki\, 00700
CATEGORIES:Muu kilpailu
ATTACH;FMTTYPE=image/jpeg:https://darts.fi/wp-content/uploads/2025/04/IMG-20250428-WA0000.jpg
END:VEVENT
BEGIN:VEVENT
DTSTART;VALUE=DATE:20250523
DTEND;VALUE=DATE:20250526
DTSTAMP:20260420T033810
CREATED:20240109T174834Z
LAST-MODIFIED:20250226T062614Z
UID:2677-1747958400-1748217599@darts.fi
SUMMARY:Isomäki Darts Festival
DESCRIPTION:https://kisailu.net/tapahtuma/paczeb6
URL:https://darts.fi/kalenteri/9-rankingkilpailu/
LOCATION:Enersense arena\, Metsämiehenkatu 10\, Pori\, 28500
CATEGORIES:Etusivun kisa,SDL myöntämät rankingpiste- ja arvokilpailut,SDL Ranking
ATTACH;FMTTYPE=image/jpeg:https://darts.fi/wp-content/uploads/2024/01/Kisaesite-korjattu.-1.jpeg
END:VEVENT
BEGIN:VEVENT
DTSTART;VALUE=DATE:20250606
DTEND;VALUE=DATE:20250609
DTSTAMP:20260420T033810
CREATED:20250217T120201Z
LAST-MODIFIED:20250217T120525Z
UID:5381-1749168000-1749427199@darts.fi
SUMMARY:Kymi-Karjala B- mestaruudet
DESCRIPTION:https://kisailu.net/tapahtuma/rarkib2
URL:https://darts.fi/kalenteri/kymi-karjala-b-mestaruudet/
LOCATION:Meyer Hamina\, Pikkuympyräkatu 5\, Hamina\, 49400
CATEGORIES:Piirinmestaruus
ATTACH;FMTTYPE=image/jpeg:https://darts.fi/wp-content/uploads/2025/02/Kymi-Karjala-B-mestaruudet.jpg
END:VEVENT
BEGIN:VEVENT
DTSTART;VALUE=DATE:20250606
DTEND;VALUE=DATE:20250609
DTSTAMP:20260420T033810
CREATED:20250328T080231Z
LAST-MODIFIED:20250331T064032Z
UID:5677-1749168000-1749427199@darts.fi
SUMMARY:Nälkämaa Cup
DESCRIPTION:Järjestäjänä: Laavu DC
URL:https://darts.fi/kalenteri/nalkamaa-cup/
LOCATION:Vuokatti
CATEGORIES:Muu kilpailu
ATTACH;FMTTYPE=image/jpeg:https://darts.fi/wp-content/uploads/2025/03/Nalkamaa-1.jpg
END:VEVENT
BEGIN:VEVENT
DTSTART;VALUE=DATE:20250607
DTEND;VALUE=DATE:20250608
DTSTAMP:20260420T033810
CREATED:20250407T090012Z
LAST-MODIFIED:20250407T090152Z
UID:5774-1749254400-1749340799@darts.fi
SUMMARY:EP:n perheparit
DESCRIPTION:Järjetää: Porvoon DK
URL:https://darts.fi/kalenteri/epn-perheparit/
LOCATION:Näsin Terapia\, Partiomiehentie 5\, Porvoo\, 06100
CATEGORIES:Muu kilpailu
ATTACH;FMTTYPE=image/jpeg:https://darts.fi/wp-content/uploads/2025/04/EPnPerheparit_2025_PDK.jpg
END:VEVENT
BEGIN:VEVENT
DTSTART;VALUE=DATE:20250613
DTEND;VALUE=DATE:20250616
DTSTAMP:20260420T033810
CREATED:20250215T040010Z
LAST-MODIFIED:20250629T214428Z
UID:2679-1749772800-1750031999@darts.fi
SUMMARY:Finnish Open & Masters
DESCRIPTION:🎯 Tervetuloa Finnish Open & Masters 2025!\nMiesten ja naisten sarjoissa Finnish Open WDF Silver -tason ja Finnish Masters WDF Bronze-tason rankingkilpailut järjestetään 13.–15.6.2025. Juniorisarjat ovat WDF Silver-tasoa. \n🎯 Welcome to Finnish Open & Masters 2025!\nMen and women Finnish Open WDF Silver-ranked and Finnish Masters WDF Bronze-rankend tournaments will take place on June 13–15\, 2025. Youth events are WDF Silver-ranked. \n📍 Kilpailupaikka / Venue\n🏛 Original Sokos Hotel Vantaa Hertaksentie 2\, 01300 Vantaa\, Google MapsPelipaikka on Sokos Hotel Vantaa.The tournament will be located Original Sokos Hotel Vantaa is located near to the Helsinki-Vantaa airport\, easy access with train. \n🗓 Aikataulu / Schedule\nPerjantai – Friday 13.6.2025\n\n19:00 – Finnish Masters WDF Avoin juniorisarja – WDF Open Youth\n19:00 – Finnish Open miesten ja naisten parit – Men and Women Pairs\n\nLauantai – Saturday 14.6.2025\n\n10:00 – Finnish Open WDF Avoin juniorisarja – WDF Open Youth\n10:00 – Finnish Open Avoin lämmittelykilpailu – Open Warm-Up Singles\n14:00 – Finnish Open WDF Miesten ja naisten singelit – WDF Men and Women Singles\n\nSunnuntai – Sunday 15.6.2025\n\n10:30 – Finnish Masters WDF Miesten ja naisten singelit – WDF Men and Women Singles\n\n📌 Ennakkoilmoittautuminen / Pre-registration\nPakollinen ennakkoilmoittautuminen ja maksu päättyy torstai 12.6.2025 klo 22:00 Kisailu.net. \nMandatory pre-registration and payment latest Thursday 12.6.2025 22:00 (CEST) Kisailu.net. Page in English – click flag top right corner. Non Finnish Darts Organization license players can use Guest registration service \n🏆 Kilpailuilmoitus / Flyer\nPDF Kilpailuilmoitus\, tiedot Kisailu.net. \nPDF Flyer In English\, details Kisailu.net. \n📧 Yhteystiedot / Contact: Jos sinulla on kysyttävää\, ota yhteyttä järjestäjiin sähköpostitse: office@darts.fiIf you have any questions\, please contact the organizers via email: office@darts.fi \n  \n🎯 Tervetuloa Finnish Open & Masters 2025! / Welcome to Finnish Open & Masters 2025! \n 
URL:https://darts.fi/kalenteri/finnish-open-2025/
LOCATION:Sokos Hotel Vantaa\, Hertaksentie 2\, Vantaa
CATEGORIES:Etusivun kisa,Finnish Open,SDL myöntämät rankingpiste- ja arvokilpailut,WDF ranking
ATTACH;FMTTYPE=image/png:https://darts.fi/wp-content/uploads/2025/02/fo25-fin-1-1-e1749500791539.png
ORGANIZER;CN="Suomen Dartsliitto":MAILTO:office@darts.fi
END:VEVENT
BEGIN:VEVENT
DTSTART;VALUE=DATE:20250628
DTEND;VALUE=DATE:20250629
DTSTAMP:20260420T033810
CREATED:20250209T182259Z
LAST-MODIFIED:20250416T184440Z
UID:5226-1751068800-1751155199@darts.fi
SUMMARY:Loma Open 2025
DESCRIPTION:SDL pienet rg pisteet jaossa
URL:https://darts.fi/kalenteri/loma-open-2025/
LOCATION:Kasibaari\, Koivukatu 1\, Nokia\, 37100
CATEGORIES:VANHA Piirit - pieni ranking
ATTACH;FMTTYPE=image/jpeg:https://darts.fi/wp-content/uploads/2025/02/LO-2025_page-0001.jpg
END:VEVENT
BEGIN:VEVENT
DTSTART;VALUE=DATE:20250628
DTEND;VALUE=DATE:20250630
DTSTAMP:20260420T033810
CREATED:20241025T163149Z
LAST-MODIFIED:20250625T104804Z
UID:4654-1751068800-1751241599@darts.fi
SUMMARY:ADC Tour
DESCRIPTION:ADC Northern European Tour (NET) 2025 Event 5 & 6 @Kerava Finland \nhttps://www.dartsatlas.com/venues/bowling-biliard-garage/tournaments?status=upcoming \nLisätietoja: Pro Darts Finland ry / Heli Kantele puh. 044 501 0501
URL:https://darts.fi/kalenteri/adc/
LOCATION:Bowling & Billiard Garage\, Lintulammenkatu 18\, Kerava\, 04250
CATEGORIES:Muu kilpailu
END:VEVENT
BEGIN:VEVENT
DTSTART;VALUE=DATE:20250629
DTEND;VALUE=DATE:20250630
DTSTAMP:20260420T033810
CREATED:20250626T200739Z
LAST-MODIFIED:20250626T200739Z
UID:6648-1751155200-1751241599@darts.fi
SUMMARY:Osman Viikinkien Sunnuntaikisat
DESCRIPTION:
URL:https://darts.fi/kalenteri/osman-viikinkien-sunnuntaikisat/
LOCATION:Viihdekeskus Pasila\, Teollisuustie 3\, Eura\, 27510\, Suomi
CATEGORIES:Muu kilpailu
ATTACH;FMTTYPE=image/jpeg:https://darts.fi/wp-content/uploads/2025/06/Osmanviikingit.jpg
END:VEVENT
BEGIN:VEVENT
DTSTART;VALUE=DATE:20250704
DTEND;VALUE=DATE:20250707
DTSTAMP:20260420T033810
CREATED:20250523T155115Z
LAST-MODIFIED:20250701T095418Z
UID:6022-1751587200-1751846399@darts.fi
SUMMARY:Darts Duel
DESCRIPTION:fair game edition – powered by Texas Pete® \nLisätiedot Kisailun tapahtumasivu: https://kisailu.net/tapahtuma/naskuj4
URL:https://darts.fi/kalenteri/darts-duel/
CATEGORIES:Muu kilpailu
ATTACH;FMTTYPE=application/pdf:https://darts.fi/wp-content/uploads/2025/05/DartsDuel_Infojuliste-1.pdf
END:VEVENT
BEGIN:VEVENT
DTSTART;VALUE=DATE:20250705
DTEND;VALUE=DATE:20250706
DTSTAMP:20260420T033810
CREATED:20250228T102101Z
LAST-MODIFIED:20250629T212344Z
UID:5500-1751673600-1751759999@darts.fi
SUMMARY:Eukonkannon Darts
DESCRIPTION:SDL  PP piirin aluekilpailu(1) rg kilpailu jossa ranking-pisteet jaossa.
URL:https://darts.fi/kalenteri/eukonkannon-darts/
LOCATION:Sonkajärvi\, Kuntotie 4\, Sonkajärvi\, 74300
CATEGORIES:Aluekilpailu
ATTACH;FMTTYPE=image/jpeg:https://darts.fi/wp-content/uploads/2025/05/EUKON-KANNON-KISA.jpg
END:VEVENT
BEGIN:VEVENT
DTSTART;VALUE=DATE:20250705
DTEND;VALUE=DATE:20250706
DTSTAMP:20260420T033810
CREATED:20250412T121407Z
LAST-MODIFIED:20250522T184737Z
UID:5837-1751673600-1751759999@darts.fi
SUMMARY:The Red Lion Open
DESCRIPTION:Sponsored by Lahden Erikois Twist
URL:https://darts.fi/kalenteri/the-red-lion-open/
LOCATION:The Red Lion\, Tuomiokirkonkatu 34\, Tampere\, 33100\, Finland
CATEGORIES:Muu kilpailu
ATTACH;FMTTYPE=image/jpeg:https://darts.fi/wp-content/uploads/2025/05/7b9839dd-1bff-486a-98e1-b4152ce21bee.jpeg
END:VEVENT
BEGIN:VEVENT
DTSTART;VALUE=DATE:20250705
DTEND;VALUE=DATE:20250706
DTSTAMP:20260420T033810
CREATED:20250604T080227Z
LAST-MODIFIED:20250604T080227Z
UID:6148-1751673600-1751759999@darts.fi
SUMMARY:Kesäcup 2025
DESCRIPTION:Ilmoittautuminen: Kisailu.net
URL:https://darts.fi/kalenteri/kesacup-2025/
LOCATION:Ravintola Ranni\, Kirkkotie 6\, Tyrnävä\, 91800\, Finland
CATEGORIES:Muu kilpailu
ATTACH;FMTTYPE=image/jpeg:https://darts.fi/wp-content/uploads/2025/06/Kesacup-2025-kisailmo.jpg
END:VEVENT
BEGIN:VEVENT
DTSTART;VALUE=DATE:20250705
DTEND;VALUE=DATE:20250706
DTSTAMP:20260420T033810
CREATED:20250625T080404Z
LAST-MODIFIED:20250625T080404Z
UID:6485-1751673600-1751759999@darts.fi
SUMMARY:Jani "Pöppis" Pöppönen 40-v. Juhlakisa
DESCRIPTION:https://kisailu.net/tapahtuma/jeknur8
URL:https://darts.fi/kalenteri/jani-poppis-popponen-40-v-juhlakisa/
LOCATION:Pub Cheri\, Aleksanterinkatu 25 A\, Lahti\, 15110\, Finland
CATEGORIES:Muu kilpailu
ATTACH;FMTTYPE=image/jpeg:https://darts.fi/wp-content/uploads/2025/06/40v_juhlakisa.jpg
END:VEVENT
BEGIN:VEVENT
DTSTART;VALUE=DATE:20250711
DTEND;VALUE=DATE:20250714
DTSTAMP:20260420T033810
CREATED:20250207T103011Z
LAST-MODIFIED:20250626T125727Z
UID:5209-1752192000-1752451199@darts.fi
SUMMARY:SDL Ranking - Revontuli Cup
DESCRIPTION:
URL:https://darts.fi/kalenteri/revontuli-cup-2025/
LOCATION:Lomakeskus Revontuli\, Revontulentie 1\, Hankasalmi\, 41500\, Suomi
CATEGORIES:Etusivun kisa
ATTACH;FMTTYPE=image/jpeg:https://darts.fi/wp-content/uploads/2025/06/XVIIIrevontulicup1.jpg
END:VEVENT
BEGIN:VEVENT
DTSTART;VALUE=DATE:20250716
DTEND;VALUE=DATE:20250720
DTSTAMP:20260420T033810
CREATED:20250215T082028Z
LAST-MODIFIED:20250215T101841Z
UID:5273-1752624000-1752969599@darts.fi
SUMMARY:WDF Europe Cup Youth
DESCRIPTION:Juniorit 18 maajoukkue\, edustuskilpailu Hollanti
URL:https://darts.fi/kalenteri/wdf-europe-cup-youth/
CATEGORIES:WDF Cup
ATTACH;FMTTYPE=image/png:https://darts.fi/wp-content/uploads/2025/02/WDF_logo_artikkeli_kalenteri.png
END:VEVENT
BEGIN:VEVENT
DTSTART;VALUE=DATE:20250718
DTEND;VALUE=DATE:20250721
DTSTAMP:20260420T033810
CREATED:20250407T133035Z
LAST-MODIFIED:20250624T114713Z
UID:5784-1752796800-1753055999@darts.fi
SUMMARY:Lietsunkulman Telttakarkelot
DESCRIPTION:
URL:https://darts.fi/kalenteri/lietsunkulman-telttakarkelot/
LOCATION:Tampere\, Ollinojankatu 5\, Tampere\, 33400\, Finland
CATEGORIES:Muu kilpailu
ATTACH;FMTTYPE=image/jpeg:https://darts.fi/wp-content/uploads/2025/06/Telttakarkelot.jpg
END:VEVENT
BEGIN:VEVENT
DTSTART;VALUE=DATE:20250726
DTEND;VALUE=DATE:20250727
DTSTAMP:20260420T033810
CREATED:20240927T083410Z
LAST-MODIFIED:20250603T131936Z
UID:4475-1753488000-1753574399@darts.fi
SUMMARY:Kärettömät
DESCRIPTION:Järjestäjä: Casablanca \nIlmoittautuminen kisailu.net
URL:https://darts.fi/kalenteri/karettomat/
LOCATION:Kauhajoki
CATEGORIES:Muu kilpailu
ATTACH;FMTTYPE=image/jpeg:https://darts.fi/wp-content/uploads/2025/06/Karettomat_2025.jpg
END:VEVENT
BEGIN:VEVENT
DTSTART;VALUE=DATE:20250726
DTEND;VALUE=DATE:20250727
DTSTAMP:20260420T033810
CREATED:20250217T123049Z
LAST-MODIFIED:20250630T092614Z
UID:5389-1753488000-1753574399@darts.fi
SUMMARY:XIII .Meripäivä singelit
DESCRIPTION:KY-KA Alueelliset pisteet jaossa (1)
URL:https://darts.fi/kalenteri/meripaiva-singelit/
LOCATION:Kotka
CATEGORIES:Aluekilpailu
ATTACH;FMTTYPE=image/png:https://darts.fi/wp-content/uploads/2025/06/MeripaivaSingeliIlmoitus.png
END:VEVENT
BEGIN:VEVENT
DTSTART;VALUE=DATE:20250726
DTEND;VALUE=DATE:20250727
DTSTAMP:20260420T033810
CREATED:20250219T085625Z
LAST-MODIFIED:20250721T073804Z
UID:5411-1753488000-1753574399@darts.fi
SUMMARY:Viljon Kuppi
DESCRIPTION:Perinteinen Viljon Kuppi Suolahden satamassa Majakan upeissa maisemissa. \nTutuilla pelimuodoilla arvotut parit\, AS ja NS
URL:https://darts.fi/kalenteri/viljon-kuppi/
LOCATION:Suolahden Majakka\, Satamaraitti 1\, Suolahti\, 44200
ATTACH;FMTTYPE=application/pdf:https://darts.fi/wp-content/uploads/2025/02/Viljon-Kuppi-kisailmo-2025.pdf
END:VEVENT
END:VCALENDAR